BEGIN:VCALENDAR
VERSION:2.0
PRODID:-//Northern Nevada Chapter International Code Council - ECPv6.15.20//NONSGML v1.0//EN
CALSCALE:GREGORIAN
METHOD:PUBLISH
X-WR-CALNAME:Northern Nevada Chapter International Code Council
X-ORIGINAL-URL:https://nnicc.org
X-WR-CALDESC:Events for Northern Nevada Chapter International Code Council
REFRESH-INTERVAL;VALUE=DURATION:PT1H
X-Robots-Tag:noindex
X-PUBLISHED-TTL:PT1H
BEGIN:VTIMEZONE
TZID:America/Los_Angeles
BEGIN:DAYLIGHT
TZOFFSETFROM:-0800
TZOFFSETTO:-0700
TZNAME:PDT
DTSTART:20240310T100000
END:DAYLIGHT
BEGIN:STANDARD
TZOFFSETFROM:-0700
TZOFFSETTO:-0800
TZNAME:PST
DTSTART:20241103T090000
END:STANDARD
BEGIN:DAYLIGHT
TZOFFSETFROM:-0800
TZOFFSETTO:-0700
TZNAME:PDT
DTSTART:20250309T100000
END:DAYLIGHT
BEGIN:STANDARD
TZOFFSETFROM:-0700
TZOFFSETTO:-0800
TZNAME:PST
DTSTART:20251102T090000
END:STANDARD
BEGIN:DAYLIGHT
TZOFFSETFROM:-0800
TZOFFSETTO:-0700
TZNAME:PDT
DTSTART:20260308T100000
END:DAYLIGHT
BEGIN:STANDARD
TZOFFSETFROM:-0700
TZOFFSETTO:-0800
TZNAME:PST
DTSTART:20261101T090000
END:STANDARD
END:VTIMEZONE
BEGIN:VEVENT
DTSTART;TZID=America/Los_Angeles:20250520T080000
DTEND;TZID=America/Los_Angeles:20250520T163000
DTSTAMP:20260419T100319
CREATED:20250313T165335Z
LAST-MODIFIED:20250313T165335Z
UID:2175-1747728000-1747758600@nnicc.org
SUMMARY:IRC Basics Seminar
DESCRIPTION:IRC Basics
URL:https://nnicc.org/event/irc-basics-seminar/
LOCATION:City of Reno Training Center\, 1640 E Commercial Row\, Reno\, NV\, 89512\, United States
ORGANIZER;CN="Teresa Parkhurst":MAILTO:tparkhurst@cityofsparks.us
END:VEVENT
BEGIN:VEVENT
DTSTART;TZID=America/Los_Angeles:20250521T073000
DTEND;TZID=America/Los_Angeles:20250521T113000
DTSTAMP:20260419T100319
CREATED:20250327T163541Z
LAST-MODIFIED:20250327T164414Z
UID:2187-1747812600-1747827000@nnicc.org
SUMMARY:Permit Tech Seminar
DESCRIPTION:Permit Technician Legal Aspects/Do’s and Don’ts
URL:https://nnicc.org/event/permit-tech-seminar/
LOCATION:City of Reno 6th Floor Conference Room\, 1 E First Street\, Reno\, NV\, 89501\, United States
ATTACH;FMTTYPE=application/pdf:https://nnicc.org/wp-content/uploads/2025/03/Permit-Tech-flyer-5.21.25-1.pdf
ORGANIZER;CN="Teresa Parkhurst":MAILTO:tparkhurst@cityofsparks.us
END:VEVENT
BEGIN:VEVENT
DTSTART;TZID=America/Los_Angeles:20250521T110000
DTEND;TZID=America/Los_Angeles:20250521T113000
DTSTAMP:20260419T100319
CREATED:20250512T164806Z
LAST-MODIFIED:20250714T224534Z
UID:2245-1747825200-1747827000@nnicc.org
SUMMARY:Board Meeting
DESCRIPTION:Agenda \nMinutes
URL:https://nnicc.org/event/board-meeting-2/
LOCATION:City of Reno Training Center\, 1640 E Commercial Row\, Reno\, NV\, 89512\, United States
ORGANIZER;CN="Stacey Haltom":MAILTO:HaltomS@Reno.gov
END:VEVENT
BEGIN:VEVENT
DTSTART;TZID=America/Los_Angeles:20250521T113000
DTEND;TZID=America/Los_Angeles:20250521T130000
DTSTAMP:20260419T100319
CREATED:20250512T165441Z
LAST-MODIFIED:20250714T224729Z
UID:2250-1747827000-1747832400@nnicc.org
SUMMARY:General Membership Meeting
DESCRIPTION:Agenda \nMinutes-no quorum
URL:https://nnicc.org/event/general-membership-meeting-11/
LOCATION:City of Reno Training Center\, 1640 E Commercial Row\, Reno\, NV\, 89512\, United States
ORGANIZER;CN="Stacey Haltom":MAILTO:HaltomS@Reno.gov
END:VEVENT
END:VCALENDAR