BEGIN:VCALENDAR
VERSION:2.0
PRODID:-//Northern Nevada Chapter International Code Council - ECPv6.15.20//NONSGML v1.0//EN
CALSCALE:GREGORIAN
METHOD:PUBLISH
X-ORIGINAL-URL:https://nnicc.org
X-WR-CALDESC:Events for Northern Nevada Chapter International Code Council
REFRESH-INTERVAL;VALUE=DURATION:PT1H
X-Robots-Tag:noindex
X-PUBLISHED-TTL:PT1H
BEGIN:VTIMEZONE
TZID:America/Los_Angeles
BEGIN:DAYLIGHT
TZOFFSETFROM:-0800
TZOFFSETTO:-0700
TZNAME:PDT
DTSTART:20240310T100000
END:DAYLIGHT
BEGIN:STANDARD
TZOFFSETFROM:-0700
TZOFFSETTO:-0800
TZNAME:PST
DTSTART:20241103T090000
END:STANDARD
BEGIN:DAYLIGHT
TZOFFSETFROM:-0800
TZOFFSETTO:-0700
TZNAME:PDT
DTSTART:20250309T100000
END:DAYLIGHT
BEGIN:STANDARD
TZOFFSETFROM:-0700
TZOFFSETTO:-0800
TZNAME:PST
DTSTART:20251102T090000
END:STANDARD
BEGIN:DAYLIGHT
TZOFFSETFROM:-0800
TZOFFSETTO:-0700
TZNAME:PDT
DTSTART:20260308T100000
END:DAYLIGHT
BEGIN:STANDARD
TZOFFSETFROM:-0700
TZOFFSETTO:-0800
TZNAME:PST
DTSTART:20261101T090000
END:STANDARD
END:VTIMEZONE
BEGIN:VEVENT
DTSTART;TZID=America/Los_Angeles:20250220T110000
DTEND;TZID=America/Los_Angeles:20250220T113000
DTSTAMP:20260419T142927
CREATED:20250207T001950Z
LAST-MODIFIED:20250307T010649Z
UID:2048-1740049200-1740051000@nnicc.org
SUMMARY:Board Meeting
DESCRIPTION:BOARD agenda 2-20-25 \nBoard meeting minutes 2-20-25
URL:https://nnicc.org/event/board-meeting/
LOCATION:City of Reno Training Center\, 1640 E Commercial Row\, Reno\, NV\, 89512\, United States
ORGANIZER;CN="Stacey Haltom":MAILTO:HaltomS@Reno.gov
END:VEVENT
BEGIN:VEVENT
DTSTART;TZID=America/Los_Angeles:20250220T113000
DTEND;TZID=America/Los_Angeles:20250220T123000
DTSTAMP:20260419T142927
CREATED:20250207T001725Z
LAST-MODIFIED:20250307T010425Z
UID:2044-1740051000-1740054600@nnicc.org
SUMMARY:General Membership Meeting
DESCRIPTION:General membership meeting minutes 1-21-25 \nGeneral membership meeting  agenda 2-20-25 \nGeneral membership meeting minutes 2-20-25
URL:https://nnicc.org/event/general-membership-meeting-9/
LOCATION:City of Reno Training Center\, 1640 E Commercial Row\, Reno\, NV\, 89512\, United States
ORGANIZER;CN="Stacey Haltom":MAILTO:HaltomS@Reno.gov
END:VEVENT
END:VCALENDAR